BEGIN:VCALENDAR
VERSION:2.0
CALSCALE:GREGORIAN
PRODID:-//Diputació de Barcelona//DibaCMS//EN
BEGIN:VEVENT
UID:2457
DTSTAMP:20260421T144307
DTSTART:20260426T110000
DTEND:20260426T110000
SUMMARY:Jocs Florals i presentació del llibre: Postals de Castellolí
LOCATION:Avda. de la Unió 50  08719 Castellolí
METHOD:PUBLISH
X-WR-CALNAME:castelloli@castelloli.cat
X-WR-TIMEZONE:Europe/Madrid
DESCRIPTION:
URI:https://www.castelloli.cat/actualitat/agenda/jocs-florals-i-presentacio-del-llibre-postals-de-castelloli.html
CLASS:PUBLIC
END:VEVENT
END:VCALENDAR
