BEGIN:VCALENDAR
VERSION:2.0
CALSCALE:GREGORIAN
PRODID:-//Diputació de Barcelona//DibaCMS//EN
BEGIN:VEVENT
UID:2458
DTSTAMP:20260421T181248
DTSTART:20260502T210000
DTEND:20260502T210000
SUMMARY:Sopar popular Festa Major
LOCATION:Davant de La Brillante 
METHOD:PUBLISH
X-WR-CALNAME:castelloli@castelloli.cat
X-WR-TIMEZONE:Europe/Madrid
DESCRIPTION:
URI:https://www.castelloli.cat/actualitat/agenda/sopar-popular-festa-major.html
CLASS:PUBLIC
END:VEVENT
END:VCALENDAR
