BEGIN:VCALENDAR
VERSION:2.0
CALSCALE:GREGORIAN
PRODID:-//Diputació de Barcelona//DibaCMS//EN
BEGIN:VEVENT
UID:2461
DTSTAMP:20260422T180749
DTSTART:20260509T140000
DTEND:20260509T140000
SUMMARY:Arrossada Popular
LOCATION:Ronda la Font s/n - zona esportiva 08719 Castellolí
METHOD:PUBLISH
X-WR-CALNAME:castelloli@castelloli.cat
X-WR-TIMEZONE:Europe/Madrid
DESCRIPTION:
URI:https://www.castelloli.cat/actualitat/agenda/arrossada-popular.html
CLASS:PUBLIC
END:VEVENT
END:VCALENDAR
